BEGIN:VCALENDAR
VERSION:2.0
PRODID:-//The Unique Writer - ECPv6.0.10//NONSGML v1.0//EN
CALSCALE:GREGORIAN
METHOD:PUBLISH
X-WR-CALNAME:The Unique Writer
X-ORIGINAL-URL:https://theuniquewriter.com
X-WR-CALDESC:Events for The Unique Writer
REFRESH-INTERVAL;VALUE=DURATION:PT1H
X-Robots-Tag:noindex
X-PUBLISHED-TTL:PT1H
BEGIN:VTIMEZONE
TZID:UTC
BEGIN:STANDARD
TZOFFSETFROM:+0000
TZOFFSETTO:+0000
TZNAME:UTC
DTSTART:20230101T000000
END:STANDARD
END:VTIMEZONE
BEGIN:VEVENT
DTSTART;TZID=UTC:20230427T100000
DTEND;TZID=UTC:20230427T173000
DTSTAMP:20260423T035852
CREATED:20230427T123459Z
LAST-MODIFIED:20230427T210020Z
UID:6376-1682589600-1682616600@theuniquewriter.com
SUMMARY:Poem in Your Pocket Pop-Up Workshop
DESCRIPTION:Celebrate National Poem in Your Pocket Day with The Unique Writer on Thursday\, April 27th! One-hour workshops will be running throughout the day.
URL:https://theuniquewriter.com/event/poeminyourpocket/
LOCATION:Online on Zoom or In-person on the patio\, Ringwood\, NJ\, 07456\, United States
CATEGORIES:Poetry,Pop-Up Workshop
END:VEVENT
END:VCALENDAR