BEGIN:VCALENDAR
VERSION:2.0
PRODID:-//The Unique Writer - ECPv6.0.10//NONSGML v1.0//EN
CALSCALE:GREGORIAN
METHOD:PUBLISH
X-ORIGINAL-URL:https://theuniquewriter.com
X-WR-CALDESC:Events for The Unique Writer
REFRESH-INTERVAL;VALUE=DURATION:PT1H
X-Robots-Tag:noindex
X-PUBLISHED-TTL:PT1H
BEGIN:VTIMEZONE
TZID:UTC
BEGIN:STANDARD
TZOFFSETFROM:+0000
TZOFFSETTO:+0000
TZNAME:UTC
DTSTART:20230101T000000
END:STANDARD
END:VTIMEZONE
BEGIN:VEVENT
DTSTART;TZID=UTC:20230608T100000
DTEND;TZID=UTC:20230608T173000
DTSTAMP:20260422T215253
CREATED:20230427T215245Z
LAST-MODIFIED:20230427T215245Z
UID:21318-1686218400-1686245400@theuniquewriter.com
SUMMARY:Pop-Up Poetry Workshop
DESCRIPTION:Join me online or on the patio for a Pop-Up Poetry Workshop! One-hour workshops will run throughout the day.
URL:https://theuniquewriter.com/event/pop-up-poetry-workshop/
CATEGORIES:Poetry,Pop-Up Workshop
ATTACH;FMTTYPE=image/png:https://theuniquewriter.com/wp-content/uploads/2023/04/Poetry-Workshops-June-e1682632302191.png
END:VEVENT
END:VCALENDAR